BEGIN:VCALENDAR
VERSION:2.0
PRODID:-//Gortmerron Baptist Church - ECPv4.6.14.1//NONSGML v1.0//EN
CALSCALE:GREGORIAN
METHOD:PUBLISH
X-WR-CALNAME:Gortmerron Baptist Church
X-ORIGINAL-URL:https://gortmerronbaptist.org
X-WR-CALDESC:Events for Gortmerron Baptist Church
BEGIN:VEVENT
DTSTART;TZID=Europe/London:20231209T160000
DTEND;TZID=Europe/London:20231209T183000
DTSTAMP:20260425T230717
CREATED:20231203T210212Z
LAST-MODIFIED:20231203T210212Z
UID:3728-1702137600-1702146600@gortmerronbaptist.org
SUMMARY:Sunday School Christmas Party
DESCRIPTION:Party for kids who attend Sunday School during the year. \n
URL:https://gortmerronbaptist.org/event/sunday-school-christmas-party-2/
END:VEVENT
END:VCALENDAR