BEGIN:VCALENDAR
VERSION:2.0
PRODID:-//Gortmerron Baptist Church - ECPv4.6.14.1//NONSGML v1.0//EN
CALSCALE:GREGORIAN
METHOD:PUBLISH
X-WR-CALNAME:Gortmerron Baptist Church
X-ORIGINAL-URL:https://gortmerronbaptist.org
X-WR-CALDESC:Events for Gortmerron Baptist Church
BEGIN:VEVENT
DTSTART;TZID=Europe/London:20240812T200000
DTEND;TZID=Europe/London:20240815T213000
DTSTAMP:20260422T220316
CREATED:20240726T162933Z
LAST-MODIFIED:20240804T221826Z
UID:4171-1723489200-1723753800@gortmerronbaptist.org
SUMMARY:Soccer Camp
DESCRIPTION:  \n \nMonday 12th August to Thursday 15th August 2024\nBenburb Playing Fields\n7pm – 8:30pm\n8-14 year old boys and girls \nOnline preregistration only here \nSoccer Camp Form \n\nWe will have limited spaces\, allocated on a first come basis. \nNo charge will be made  \n
URL:https://gortmerronbaptist.org/event/soccer-camp-2/
LOCATION:Benburb Playing Fields\, Benburb\, Tyrone\, BT71 7NS\, United Kingdom
END:VEVENT
END:VCALENDAR