BEGIN:VCALENDAR
VERSION:2.0
PRODID:-//Gortmerron Baptist Church - ECPv4.6.14.1//NONSGML v1.0//EN
CALSCALE:GREGORIAN
METHOD:PUBLISH
X-WR-CALNAME:Gortmerron Baptist Church
X-ORIGINAL-URL:https://gortmerronbaptist.org
X-WR-CALDESC:Events for Gortmerron Baptist Church
BEGIN:VEVENT
DTSTART;TZID=Europe/London:20241212T193000
DTEND;TZID=Europe/London:20241212T203000
DTSTAMP:20260422T094509
CREATED:20241110T120317Z
LAST-MODIFIED:20241110T120317Z
UID:4260-1734031800-1734035400@gortmerronbaptist.org
SUMMARY:Hope Explored 3
DESCRIPTION: \n \n
URL:https://gortmerronbaptist.org/event/hope-explored-3/
END:VEVENT
END:VCALENDAR