BEGIN:VCALENDAR
VERSION:2.0
PRODID:-//Gortmerron Baptist Church - ECPv4.6.14.1//NONSGML v1.0//EN
CALSCALE:GREGORIAN
METHOD:PUBLISH
X-WR-CALNAME:Gortmerron Baptist Church
X-ORIGINAL-URL:https://gortmerronbaptist.org
X-WR-CALDESC:Events for Gortmerron Baptist Church
BEGIN:VEVENT
DTSTART;TZID=Europe/London:20241205T193000
DTEND;TZID=Europe/London:20241205T203000
DTSTAMP:20260422T111507
CREATED:20241110T120238Z
LAST-MODIFIED:20241110T120238Z
UID:4258-1733427000-1733430600@gortmerronbaptist.org
SUMMARY:Hope Explored 2
DESCRIPTION: \n \n
URL:https://gortmerronbaptist.org/event/hope-explored-2/
END:VEVENT
END:VCALENDAR