BEGIN:VCALENDAR
VERSION:2.0
PRODID:-//Gortmerron Baptist Church - ECPv4.6.14.1//NONSGML v1.0//EN
CALSCALE:GREGORIAN
METHOD:PUBLISH
X-WR-CALNAME:Gortmerron Baptist Church
X-ORIGINAL-URL:https://gortmerronbaptist.org
X-WR-CALDESC:Events for Gortmerron Baptist Church
BEGIN:VEVENT
DTSTART;TZID=Europe/London:20240728T193000
DTEND;TZID=Europe/London:20240728T203000
DTSTAMP:20260423T045042
CREATED:20240605T135815Z
LAST-MODIFIED:20240605T141354Z
UID:4106-1722191400-1722195000@gortmerronbaptist.org
SUMMARY:Drive in Church
DESCRIPTION:  \nSundays\, 6:30pm \nJune\, July & August  \nAll Welcome \nGortmerron Baptist Car Park \nPark and listen to songs and Bible message from your car \n
URL:https://gortmerronbaptist.org/event/drive-in-church-8/
END:VEVENT
END:VCALENDAR