BEGIN:VCALENDAR
VERSION:2.0
PRODID:-//Gortmerron Baptist Church - ECPv4.6.14.1//NONSGML v1.0//EN
CALSCALE:GREGORIAN
METHOD:PUBLISH
X-WR-CALNAME:Gortmerron Baptist Church
X-ORIGINAL-URL:https://gortmerronbaptist.org
X-WR-CALDESC:Events for Gortmerron Baptist Church
BEGIN:VEVENT
DTSTART;TZID=Europe/London:20240721T193000
DTEND;TZID=Europe/London:20240721T203000
DTSTAMP:20260423T062652
CREATED:20240605T135800Z
LAST-MODIFIED:20240721T170952Z
UID:4105-1721586600-1721590200@gortmerronbaptist.org
SUMMARY:Drive in Church EDIT MOVING INSIDE DUE TO WEATHER
DESCRIPTION:  \nTonight’s🚘Drive In Church moving inside due to weather 🌧\, all still very welcome. \nSundays\, 6:30pm \nJune\, July & August  \nAll Welcome \nGortmerron Baptist Car Park \nPark and listen to songs and Bible message from your car \n
URL:https://gortmerronbaptist.org/event/drive-in-church-7/
END:VEVENT
END:VCALENDAR