BEGIN:VCALENDAR
VERSION:2.0
PRODID:-//Gortmerron Baptist Church - ECPv4.6.14.1//NONSGML v1.0//EN
CALSCALE:GREGORIAN
METHOD:PUBLISH
X-WR-CALNAME:Gortmerron Baptist Church
X-ORIGINAL-URL:https://gortmerronbaptist.org
X-WR-CALDESC:Events for Gortmerron Baptist Church
BEGIN:VEVENT
DTSTART;TZID=Europe/London:20240714T193000
DTEND;TZID=Europe/London:20240714T203000
DTSTAMP:20260423T081926
CREATED:20240605T135749Z
LAST-MODIFIED:20240605T141337Z
UID:4104-1720981800-1720985400@gortmerronbaptist.org
SUMMARY:Drive in Church
DESCRIPTION:  \nSundays\, 6:30pm \nJune\, July & August  \nAll Welcome \nGortmerron Baptist Car Park \nPark and listen to songs and Bible message from your car \n
URL:https://gortmerronbaptist.org/event/drive-in-church-6/
END:VEVENT
END:VCALENDAR