BEGIN:VCALENDAR
VERSION:2.0
PRODID:-//Gortmerron Baptist Church - ECPv4.6.14.1//NONSGML v1.0//EN
CALSCALE:GREGORIAN
METHOD:PUBLISH
X-WR-CALNAME:Gortmerron Baptist Church
X-ORIGINAL-URL:https://gortmerronbaptist.org
X-WR-CALDESC:Events for Gortmerron Baptist Church
BEGIN:VEVENT
DTSTART;TZID=Europe/London:20240630T193000
DTEND;TZID=Europe/London:20240630T203000
DTSTAMP:20260423T132010
CREATED:20240605T135720Z
LAST-MODIFIED:20240605T141315Z
UID:4102-1719772200-1719775800@gortmerronbaptist.org
SUMMARY:Drive in Church
DESCRIPTION:  \nSundays\, 6:30pm \nJune\, July & August  \nAll Welcome \nGortmerron Baptist Car Park \nPark and listen to songs and Bible message from your car \n
URL:https://gortmerronbaptist.org/event/drive-in-church-4/
END:VEVENT
END:VCALENDAR