BEGIN:VCALENDAR
VERSION:2.0
PRODID:-//Gortmerron Baptist Church - ECPv4.6.14.1//NONSGML v1.0//EN
CALSCALE:GREGORIAN
METHOD:PUBLISH
X-WR-CALNAME:Gortmerron Baptist Church
X-ORIGINAL-URL:https://gortmerronbaptist.org
X-WR-CALDESC:Events for Gortmerron Baptist Church
BEGIN:VEVENT
DTSTART;TZID=Europe/London:20240616T193000
DTEND;TZID=Europe/London:20240616T203000
DTSTAMP:20260425T114320
CREATED:20240605T135120Z
LAST-MODIFIED:20240605T141246Z
UID:4099-1718562600-1718566200@gortmerronbaptist.org
SUMMARY:Drive in Church
DESCRIPTION:  \nSundays\, 6:30pm \nJune\, July & August  \nAll Welcome \nGortmerron Baptist Car Park \nPark and listen to songs and Bible message from your car \n
URL:https://gortmerronbaptist.org/event/drive-in-church-2/
END:VEVENT
END:VCALENDAR