BEGIN:VCALENDAR
VERSION:2.0
PRODID:-//Gortmerron Baptist Church - ECPv4.6.14.1//NONSGML v1.0//EN
CALSCALE:GREGORIAN
METHOD:PUBLISH
X-WR-CALNAME:Gortmerron Baptist Church
X-ORIGINAL-URL:https://gortmerronbaptist.org
X-WR-CALDESC:Events for Gortmerron Baptist Church
BEGIN:VEVENT
DTSTART;TZID=Europe/London:20240811T193000
DTEND;TZID=Europe/London:20240811T203000
DTSTAMP:20260422T233251
CREATED:20240605T135842Z
LAST-MODIFIED:20240605T141418Z
UID:4108-1723401000-1723404600@gortmerronbaptist.org
SUMMARY:Drive in Church
DESCRIPTION:  \nSundays\, 6:30pm \nJune\, July & August  \nAll Welcome \nGortmerron Baptist Car Park \nPark and listen to songs and Bible message from your car \n
URL:https://gortmerronbaptist.org/event/drive-in-church-10/
END:VEVENT
END:VCALENDAR