BEGIN:VCALENDAR
VERSION:2.0
PRODID:-//Gortmerron Baptist Church - ECPv4.6.14.1//NONSGML v1.0//EN
CALSCALE:GREGORIAN
METHOD:PUBLISH
X-WR-CALNAME:Gortmerron Baptist Church
X-ORIGINAL-URL:https://gortmerronbaptist.org
X-WR-CALDESC:Events for Gortmerron Baptist Church
BEGIN:VEVENT
DTSTART;VALUE=DATE:20250621
DTEND;VALUE=DATE:20250622
DTSTAMP:20260419T225357
CREATED:20250517T125500Z
LAST-MODIFIED:20250528T145717Z
UID:4415-1750460400-1750546799@gortmerronbaptist.org
SUMMARY:Church Picnic at  Gosford Forest Park
DESCRIPTION:Church Picnic at Gosford Forest Park \nSaturday 21st June \n
URL:https://gortmerronbaptist.org/event/church-picnic-at-gosford-forest-park/
END:VEVENT
END:VCALENDAR