BEGIN:VCALENDAR
VERSION:2.0
PRODID:-//Gortmerron Baptist Church - ECPv4.6.14.1//NONSGML v1.0//EN
CALSCALE:GREGORIAN
METHOD:PUBLISH
X-WR-CALNAME:Gortmerron Baptist Church
X-ORIGINAL-URL:https://gortmerronbaptist.org
X-WR-CALDESC:Events for Gortmerron Baptist Church
BEGIN:VEVENT
DTSTART;TZID=Europe/London:20231219T180000
DTEND;TZID=Europe/London:20231219T200000
DTSTAMP:20260425T193410
CREATED:20231127T211451Z
LAST-MODIFIED:20231202T133151Z
UID:3702-1703008800-1703016000@gortmerronbaptist.org
SUMMARY:Christmas Club Blackwatertown
DESCRIPTION: \nJoy to the World Christmas Club Blackwatertown 2023 \n \n  \n
URL:https://gortmerronbaptist.org/event/christmas-club-blackwatertown/
END:VEVENT
END:VCALENDAR