BEGIN:VCALENDAR
VERSION:2.0
PRODID:-//Gortmerron Baptist Church - ECPv4.6.14.1//NONSGML v1.0//EN
CALSCALE:GREGORIAN
METHOD:PUBLISH
X-WR-CALNAME:Gortmerron Baptist Church
X-ORIGINAL-URL:https://gortmerronbaptist.org
X-WR-CALDESC:Events for Gortmerron Baptist Church
BEGIN:VEVENT
DTSTART;TZID=Europe/London:20231202T173000
DTEND;TZID=Europe/London:20231202T200000
DTSTAMP:20260426T005926
CREATED:20231127T212916Z
LAST-MODIFIED:20231127T212916Z
UID:3704-1701538200-1701547200@gortmerronbaptist.org
SUMMARY:Carols @ Blackwatertown
DESCRIPTION:Carols at An Port Mor Chirstmas lights switch on  \n
URL:https://gortmerronbaptist.org/event/carols-blackwatertown/
END:VEVENT
END:VCALENDAR