BEGIN:VCALENDAR
VERSION:2.0
PRODID:-//Gortmerron Baptist Church - ECPv4.6.14.1//NONSGML v1.0//EN
CALSCALE:GREGORIAN
METHOD:PUBLISH
X-WR-CALNAME:Gortmerron Baptist Church
X-ORIGINAL-URL:https://gortmerronbaptist.org
X-WR-CALDESC:Events for Gortmerron Baptist Church
BEGIN:VEVENT
DTSTART;TZID=Europe/London:20241201T170000
DTEND;TZID=Europe/London:20241201T180000
DTSTAMP:20260422T124847
CREATED:20241110T120455Z
LAST-MODIFIED:20241129T205502Z
UID:4262-1733072400-1733076000@gortmerronbaptist.org
SUMMARY:Carols @ Blackwatertown Lights Switch On
DESCRIPTION: \n
URL:https://gortmerronbaptist.org/event/carols-blackwatertown-2/
END:VEVENT
END:VCALENDAR