BEGIN:VCALENDAR
VERSION:2.0
PRODID:-//Gortmerron Baptist Church - ECPv4.6.14.1//NONSGML v1.0//EN
CALSCALE:GREGORIAN
METHOD:PUBLISH
X-WR-CALNAME:Gortmerron Baptist Church
X-ORIGINAL-URL:https://gortmerronbaptist.org
X-WR-CALDESC:Events for Gortmerron Baptist Church
BEGIN:VEVENT
DTSTART;TZID=Europe/London:20231217T183000
DTEND;TZID=Europe/London:20231217T193000
DTSTAMP:20260425T212526
CREATED:20231127T213033Z
LAST-MODIFIED:20231127T213033Z
UID:3706-1702837800-1702841400@gortmerronbaptist.org
SUMMARY:Carol Service @ Gortmerron
DESCRIPTION:Gortmerron Carol Service \n
URL:https://gortmerronbaptist.org/event/carol-service-gortmerron/
END:VEVENT
END:VCALENDAR