BEGIN:VCALENDAR
VERSION:2.0
PRODID:-//Gortmerron Baptist Church - ECPv4.6.14.1//NONSGML v1.0//EN
CALSCALE:GREGORIAN
METHOD:PUBLISH
X-WR-CALNAME:Gortmerron Baptist Church
X-ORIGINAL-URL:https://gortmerronbaptist.org
X-WR-CALDESC:Events for Gortmerron Baptist Church
BEGIN:VEVENT
DTSTART;VALUE=DATE:20241222
DTEND;VALUE=DATE:20241223
DTSTAMP:20260420T065215
CREATED:20241110T120701Z
LAST-MODIFIED:20241110T120701Z
UID:4267-1734825600-1734911999@gortmerronbaptist.org
SUMMARY:Carol Service Gortmerron
DESCRIPTION:
URL:https://gortmerronbaptist.org/event/carol-service-gortmerron-2/
END:VEVENT
END:VCALENDAR