BEGIN:VCALENDAR
VERSION:2.0
PRODID:-//Gortmerron Baptist Church - ECPv4.6.14.1//NONSGML v1.0//EN
CALSCALE:GREGORIAN
METHOD:PUBLISH
X-WR-CALNAME:Gortmerron Baptist Church
X-ORIGINAL-URL:https://gortmerronbaptist.org
X-WR-CALDESC:Events for Gortmerron Baptist Church
BEGIN:VEVENT
DTSTART;VALUE=DATE:20250630
DTEND;VALUE=DATE:20250705
DTSTAMP:20260419T212026
CREATED:20250528T145920Z
LAST-MODIFIED:20250624T173548Z
UID:4431-1751238000-1751669999@gortmerronbaptist.org
SUMMARY:5-Day Club in Blackwatertown Park
DESCRIPTION:30th June – 4th July \nPlaypark in Blackwatertown \nGames\, stories\, quizzes\, memory verses\, songs.   \nAll children welcome.   \n \n
URL:https://gortmerronbaptist.org/event/5-day-club-in-blackwatertown-park/
END:VEVENT
END:VCALENDAR