BEGIN:VCALENDAR
VERSION:2.0
PRODID:-//Gortmerron Baptist Church - ECPv4.6.14.1//NONSGML v1.0//EN
CALSCALE:GREGORIAN
METHOD:PUBLISH
X-WR-CALNAME:Gortmerron Baptist Church
X-ORIGINAL-URL:https://gortmerronbaptist.org
X-WR-CALDESC:Events for Gortmerron Baptist Church
BEGIN:VEVENT
DTSTART;TZID=Europe/London:20240805T193000
DTEND;TZID=Europe/London:20240809T203000
DTSTAMP:20260423T012807
CREATED:20240630T135833Z
LAST-MODIFIED:20240731T103204Z
UID:4145-1722882600-1723231800@gortmerronbaptist.org
SUMMARY:5 DAY CLUB BENBURB
DESCRIPTION:5 Day Club  \nFor Children (age 4+) \nGames\, Songs\, Quizzes\, Memory Verses\, Bible Stories.   \nAll Welcome.   \nBenburb Play Park (beside playing fields)\nMonday 1st – Friday 5th July\n6:30PM – 7:30PM \nPlease bring a permission slip or complete one when dropping off your child(ren) on their first day.  \n \n
URL:https://gortmerronbaptist.org/event/5-day-club-benburb-2/
END:VEVENT
END:VCALENDAR